BEGIN:VCALENDAR
METHOD:PUBLISH
CALSCALE:GREGORIAN
PRODID:Elbphilharmonie
VERSION:2.0
BEGIN:VTIMEZONE
TZID:Europe/Berlin
BEGIN:DAYLIGHT
TZOFFSETFROM:+0100
TZOFFSETTO:+0200
TZNAME:CEST
DTSTART:20200329T010000
RRULE:FREQ=YEARLY;INTERVAL=1;BYDAY=-1SU;BYMONTH=3
END:DAYLIGHT
BEGIN:STANDARD
TZOFFSETFROM:+0200
TZOFFSETTO:+0100
TZNAME:CET
DTSTART:20201025T010000
RRULE:FREQ=YEARLY;INTERVAL=1;BYDAY=-1SU;BYMONTH=10
END:STANDARD
END:VTIMEZONE
BEGIN:VEVENT
DTSTAMP:20260423T181800Z
DTSTART:20261008T180000Z
DTEND:20261008T195000Z
LOCATION:Elbphilharmonie Großer Saal
SUMMARY:NDR Elbphilharmonie Orchestra / Frank Peter Zimmermann / Alan Gilb
 ert
DESCRIPTION:Performers\nNDR Elbphilharmonie Orchester\nFrank Peter Zimmerm
 ann: violin\nconductor: Alan Gilbert\n\nProgramme\nMissy Mazzoli\nOrpheus 
 Undone\nWilliam Walton\nViolinkonzert\n– Interval – \nWolfgang Amadeus
  Mozart\nSymphony in C major\, KV 551 »Jupiter«
UID:event27828@Elbphilharmonie.de
URL:https://www.elbphilharmonie.de/en/whats-on/ndr-elbphilharmonie-orchest
 ra-frank-peter-zimmermann-alan-gilbert/27828
END:VEVENT
END:VCALENDAR
