BEGIN:VCALENDAR
METHOD:PUBLISH
CALSCALE:GREGORIAN
PRODID:Elbphilharmonie
VERSION:2.0
BEGIN:VTIMEZONE
TZID:Europe/Berlin
BEGIN:DAYLIGHT
TZOFFSETFROM:+0100
TZOFFSETTO:+0200
TZNAME:CEST
DTSTART:20200329T010000
RRULE:FREQ=YEARLY;INTERVAL=1;BYDAY=-1SU;BYMONTH=3
END:DAYLIGHT
BEGIN:STANDARD
TZOFFSETFROM:+0200
TZOFFSETTO:+0100
TZNAME:CET
DTSTART:20201025T010000
RRULE:FREQ=YEARLY;INTERVAL=1;BYDAY=-1SU;BYMONTH=10
END:STANDARD
END:VTIMEZONE
BEGIN:VEVENT
DTSTAMP:20260423T181800Z
DTSTART:20261203T190000Z
DTEND:20261203T205000Z
LOCATION:Elbphilharmonie Großer Saal
SUMMARY:NDR Elbphilharmonie Orchestra / Francesco Piemontesi / Fabio Luisi
DESCRIPTION:Performers\nNDR Elbphilharmonie Orchester\nFrancesco Piemontes
 i: piano\nconductor: Fabio Luisi\n\nProgramme\nAntonín Dvořák\nConcerto
  for Piano and Orchestra in G minor\, Op. 33\n– Interval – \nJohannes 
 Brahms\nSymphony No. 4 in E minor\, Op. 98
UID:event27839@Elbphilharmonie.de
URL:https://www.elbphilharmonie.de/en/whats-on/ndr-elbphilharmonie-orchest
 ra-francesco-piemontesi-fabio-luisi/27839
END:VEVENT
END:VCALENDAR
