BEGIN:VCALENDAR
METHOD:PUBLISH
CALSCALE:GREGORIAN
PRODID:Elbphilharmonie
VERSION:2.0
BEGIN:VTIMEZONE
TZID:Europe/Berlin
BEGIN:DAYLIGHT
TZOFFSETFROM:+0100
TZOFFSETTO:+0200
TZNAME:CEST
DTSTART:20200329T010000
RRULE:FREQ=YEARLY;INTERVAL=1;BYDAY=-1SU;BYMONTH=3
END:DAYLIGHT
BEGIN:STANDARD
TZOFFSETFROM:+0200
TZOFFSETTO:+0100
TZNAME:CET
DTSTART:20201025T010000
RRULE:FREQ=YEARLY;INTERVAL=1;BYDAY=-1SU;BYMONTH=10
END:STANDARD
END:VTIMEZONE
BEGIN:VEVENT
DTSTAMP:20260423T181800Z
DTSTART:20261108T100000Z
DTEND:20261108T120000Z
LOCATION:Elbphilharmonie Großer Saal
SUMMARY:NDR Elbphilharmonie Orchestra / Daniel Müller-Schott / Andris Pog
 a
DESCRIPTION:Performers\nNDR Elbphilharmonie Orchester\nDaniel Müller-Scho
 tt: violoncello\nconductor: Andris Poga\n\nProgramme\nSergej Prokofjew\nSi
 nfonisches Konzert für Violoncello und Orchester e-Moll op. 125\n– Int
 erval – \nDmitri Schostakowitsch\nSinfonie Nr. 4 c-Moll op. 43
UID:event27832@Elbphilharmonie.de
URL:https://www.elbphilharmonie.de/en/whats-on/ndr-elbphilharmonie-orchest
 ra-daniel-muller-schott-andris-poga/27832
END:VEVENT
END:VCALENDAR
