BEGIN:VCALENDAR
METHOD:PUBLISH
CALSCALE:GREGORIAN
PRODID:Elbphilharmonie
VERSION:2.0
BEGIN:VTIMEZONE
TZID:Europe/Berlin
BEGIN:DAYLIGHT
TZOFFSETFROM:+0100
TZOFFSETTO:+0200
TZNAME:CEST
DTSTART:20200329T010000
RRULE:FREQ=YEARLY;INTERVAL=1;BYDAY=-1SU;BYMONTH=3
END:DAYLIGHT
BEGIN:STANDARD
TZOFFSETFROM:+0200
TZOFFSETTO:+0100
TZNAME:CET
DTSTART:20201025T010000
RRULE:FREQ=YEARLY;INTERVAL=1;BYDAY=-1SU;BYMONTH=10
END:STANDARD
END:VTIMEZONE
BEGIN:VEVENT
DTSTAMP:20260423T181800Z
DTSTART:20270604T180000Z
DTEND:20270604T200000Z
LOCATION:Elbphilharmonie Großer Saal
SUMMARY:NDR Elbphilharmonie Orchestra / Carolin Widmann / Thomas Guggeis
DESCRIPTION:Performers\nNDR Elbphilharmonie Orchester\nNDR Vokalensemble\n
 Carolin Widmann: violin\nconductor: Thomas Guggeis\n\nProgramme\nRichard W
 agner\nVorspiel zu »Lohengrin« WWV 75\nPeter Ruzicka\nEingedunkelt für 
 Violine\, Kammerchor und Orchester\n– Interval – \nAnton Bruckner\nSym
 phony No. 7 in E major
UID:event27861@Elbphilharmonie.de
URL:https://www.elbphilharmonie.de/en/whats-on/ndr-elbphilharmonie-orchest
 ra-carolin-widmann-thomas-guggeis/27861
END:VEVENT
END:VCALENDAR
