BEGIN:VCALENDAR
METHOD:PUBLISH
CALSCALE:GREGORIAN
PRODID:Elbphilharmonie
VERSION:2.0
BEGIN:VTIMEZONE
TZID:Europe/Berlin
BEGIN:DAYLIGHT
TZOFFSETFROM:+0100
TZOFFSETTO:+0200
TZNAME:CEST
DTSTART:20200329T010000
RRULE:FREQ=YEARLY;INTERVAL=1;BYDAY=-1SU;BYMONTH=3
END:DAYLIGHT
BEGIN:STANDARD
TZOFFSETFROM:+0200
TZOFFSETTO:+0100
TZNAME:CET
DTSTART:20201025T010000
RRULE:FREQ=YEARLY;INTERVAL=1;BYDAY=-1SU;BYMONTH=10
END:STANDARD
END:VTIMEZONE
BEGIN:VEVENT
DTSTAMP:20260423T181800Z
DTSTART:20270111T190000Z
DTEND:20270111T220000Z
LOCATION:Elbphilharmonie Großer Saal
SUMMARY:NDR Elbphilharmonie Orchestra / Alan Gilbert – Meute
DESCRIPTION:Performers\nNDR Elbphilharmonie Orchester\nconductor: Alan Gil
 bert\nMeute\n\nProgramme\nLudwig van Beethoven\nOuvertüre C-Dur op. 124 
 »Die Weihe des Hauses«\nJohn Adams\nHarmonielehre
UID:event28230@Elbphilharmonie.de
URL:https://www.elbphilharmonie.de/en/whats-on/ndr-elbphilharmonie-orchest
 ra-alan-gilbert-meute/28230
END:VEVENT
END:VCALENDAR
