BEGIN:VCALENDAR
METHOD:PUBLISH
CALSCALE:GREGORIAN
PRODID:Elbphilharmonie
VERSION:2.0
BEGIN:VTIMEZONE
TZID:Europe/Berlin
BEGIN:DAYLIGHT
TZOFFSETFROM:+0100
TZOFFSETTO:+0200
TZNAME:CEST
DTSTART:20200329T010000
RRULE:FREQ=YEARLY;INTERVAL=1;BYDAY=-1SU;BYMONTH=3
END:DAYLIGHT
BEGIN:STANDARD
TZOFFSETFROM:+0200
TZOFFSETTO:+0100
TZNAME:CET
DTSTART:20201025T010000
RRULE:FREQ=YEARLY;INTERVAL=1;BYDAY=-1SU;BYMONTH=10
END:STANDARD
END:VTIMEZONE
BEGIN:VEVENT
DTSTAMP:20260423T152800Z
DTSTART:20270614T180000Z
DTEND:20270614T200000Z
LOCATION:Rolf-Liebermann-Studio
SUMMARY:NDR Chamber Music Concert
DESCRIPTION:Performers\nElphier-Quartett\n\nProgramme\nLudwig van Beethove
 n\nStreichquartett D-Dur op. 18/3\nString Quartet in F major\, Op. 135\nS
 treichquartett e-Moll op. 59/2
UID:event28219@Elbphilharmonie.de
URL:https://www.elbphilharmonie.de/en/whats-on/ndr-chamber-music-concert/2
 8219
END:VEVENT
END:VCALENDAR
