BEGIN:VCALENDAR
METHOD:PUBLISH
CALSCALE:GREGORIAN
PRODID:Elbphilharmonie
VERSION:2.0
BEGIN:VTIMEZONE
TZID:Europe/Berlin
BEGIN:DAYLIGHT
TZOFFSETFROM:+0100
TZOFFSETTO:+0200
TZNAME:CEST
DTSTART:20200329T010000
RRULE:FREQ=YEARLY;INTERVAL=1;BYDAY=-1SU;BYMONTH=3
END:DAYLIGHT
BEGIN:STANDARD
TZOFFSETFROM:+0200
TZOFFSETTO:+0100
TZNAME:CET
DTSTART:20201025T010000
RRULE:FREQ=YEARLY;INTERVAL=1;BYDAY=-1SU;BYMONTH=10
END:STANDARD
END:VTIMEZONE
BEGIN:VEVENT
DTSTAMP:20260423T115500Z
DTSTART:20270209T183000Z
DTEND:20270209T203000Z
LOCATION:Elbphilharmonie Kleiner Saal
SUMMARY:NDR Chamber Music Concert
DESCRIPTION:Performers\nNoah Quartett\nAlexandra Psareva: violin\nMichael 
 Stürzinger: violin\nErik Wenbo Xu: viola\nBettina Barbara Bertsch: violon
 cello\n\nProgramme\nLudwig van Beethoven\nString Quartet in C minor\, Op. 
 18/4\nString Quartet in F minor\, Op. 95 »Quartetto serioso«\nStreichqua
 rtett F-Dur op. 59/1
UID:event28214@Elbphilharmonie.de
URL:https://www.elbphilharmonie.de/en/whats-on/ndr-chamber-music-concert/2
 8214
END:VEVENT
END:VCALENDAR
