BEGIN:VCALENDAR
METHOD:PUBLISH
CALSCALE:GREGORIAN
PRODID:Elbphilharmonie
VERSION:2.0
BEGIN:VTIMEZONE
TZID:Europe/Berlin
BEGIN:DAYLIGHT
TZOFFSETFROM:+0100
TZOFFSETTO:+0200
TZNAME:CEST
DTSTART:20200329T010000
RRULE:FREQ=YEARLY;INTERVAL=1;BYDAY=-1SU;BYMONTH=3
END:DAYLIGHT
BEGIN:STANDARD
TZOFFSETFROM:+0200
TZOFFSETTO:+0100
TZNAME:CET
DTSTART:20201025T010000
RRULE:FREQ=YEARLY;INTERVAL=1;BYDAY=-1SU;BYMONTH=10
END:STANDARD
END:VTIMEZONE
BEGIN:VEVENT
DTSTAMP:20260423T115400Z
DTSTART:20270427T173000Z
DTEND:20270427T193000Z
LOCATION:Elbphilharmonie Kleiner Saal
SUMMARY:NDR Chamber Music Concert
DESCRIPTION:Performers\nElphier-Quartett\nLjudmila Minnibaeva: violin\nYih
 ua Jin-Mengel: violin\nAlla Rutter: viola\nSebastian Gaede: violoncello\nJ
 ulius Beck: violin\nPhillip Wentrup: violoncello\nAndreas Grünkorn: violo
 ncello\n\nProgramme\nLudwig van Beethoven\nString Quartet in F major\, Op.
  18/1\nStreichquartett B-Dur op. 130\nStreichquartett B-Dur op. 130 / mi
 t Großer Fuge B-Dur op. 133
UID:event28212@Elbphilharmonie.de
URL:https://www.elbphilharmonie.de/en/whats-on/ndr-chamber-music-concert/2
 8212
END:VEVENT
END:VCALENDAR
