BEGIN:VCALENDAR
METHOD:PUBLISH
CALSCALE:GREGORIAN
PRODID:Elbphilharmonie
VERSION:2.0
BEGIN:VTIMEZONE
TZID:Europe/Berlin
BEGIN:DAYLIGHT
TZOFFSETFROM:+0100
TZOFFSETTO:+0200
TZNAME:CEST
DTSTART:20200329T010000
RRULE:FREQ=YEARLY;INTERVAL=1;BYDAY=-1SU;BYMONTH=3
END:DAYLIGHT
BEGIN:STANDARD
TZOFFSETFROM:+0200
TZOFFSETTO:+0100
TZNAME:CET
DTSTART:20201025T010000
RRULE:FREQ=YEARLY;INTERVAL=1;BYDAY=-1SU;BYMONTH=10
END:STANDARD
END:VTIMEZONE
BEGIN:VEVENT
DTSTAMP:20260423T115500Z
DTSTART:20261215T183000Z
DTEND:20261215T203000Z
LOCATION:Elbphilharmonie Kleiner Saal
SUMMARY:NDR Chamber Music Concert
DESCRIPTION:Performers\nMitglieder des NDR Elbphilharmonie Orchesters\n\nP
 rogramme\nChristmas programme woth works by Andreas Hammerschmidt\, Johann
  Sebastian Bach and Piotr Tchaikovsky
UID:event28211@Elbphilharmonie.de
URL:https://www.elbphilharmonie.de/en/whats-on/ndr-chamber-music-concert/2
 8211
END:VEVENT
END:VCALENDAR
