BEGIN:VCALENDAR
METHOD:PUBLISH
CALSCALE:GREGORIAN
PRODID:Elbphilharmonie
VERSION:2.0
BEGIN:VTIMEZONE
TZID:Europe/Berlin
BEGIN:DAYLIGHT
TZOFFSETFROM:+0100
TZOFFSETTO:+0200
TZNAME:CEST
DTSTART:20200329T010000
RRULE:FREQ=YEARLY;INTERVAL=1;BYDAY=-1SU;BYMONTH=3
END:DAYLIGHT
BEGIN:STANDARD
TZOFFSETFROM:+0200
TZOFFSETTO:+0100
TZNAME:CET
DTSTART:20201025T010000
RRULE:FREQ=YEARLY;INTERVAL=1;BYDAY=-1SU;BYMONTH=10
END:STANDARD
END:VTIMEZONE
BEGIN:VEVENT
DTSTAMP:20260423T115500Z
DTSTART:20260922T173000Z
DTEND:20260922T193000Z
LOCATION:Elbphilharmonie Kleiner Saal
SUMMARY:NDR Chamber Music Concert
DESCRIPTION:Performers\nMitglieder des NDR Elbphilharmonie Orchesters\n\nP
 rogramme\nWolfgang Amadeus Mozart\nTrio for Clarinet\, Viola and Piano in 
 E-flat major\, KV 498 »Kegelstatt Trio«\nRobert Schumann\nMärchenerzäh
 lungen (Fairy tale narrations)\, Op. 132\nGyörgy Kurtág\nHommage à R.Sc
 h. für Klarinette\, Viola und Klavier op. 15d\nas well as works by Juliu
 s Ockert and Anna Theegarten
UID:event28209@Elbphilharmonie.de
URL:https://www.elbphilharmonie.de/en/whats-on/ndr-chamber-music-concert/2
 8209
END:VEVENT
END:VCALENDAR
