BEGIN:VCALENDAR
METHOD:PUBLISH
CALSCALE:GREGORIAN
PRODID:Elbphilharmonie
VERSION:2.0
BEGIN:VTIMEZONE
TZID:Europe/Berlin
BEGIN:DAYLIGHT
TZOFFSETFROM:+0100
TZOFFSETTO:+0200
TZNAME:CEST
DTSTART:20200329T010000
RRULE:FREQ=YEARLY;INTERVAL=1;BYDAY=-1SU;BYMONTH=3
END:DAYLIGHT
BEGIN:STANDARD
TZOFFSETFROM:+0200
TZOFFSETTO:+0100
TZNAME:CET
DTSTART:20201025T010000
RRULE:FREQ=YEARLY;INTERVAL=1;BYDAY=-1SU;BYMONTH=10
END:STANDARD
END:VTIMEZONE
BEGIN:VEVENT
DTSTAMP:20260423T122800Z
DTSTART:20260929T180000Z
DTEND:20260929T200000Z
LOCATION:Elbphilharmonie Großer Saal
SUMMARY:NDR Bigband / Seckou Keita / Omar Sosa / Jacques Morelenbaum
DESCRIPTION:Performers\nNDR Bigband\nSeckou Keita: kora\, vocals\nOmar Sos
 a: piano\ndirector: Jaques Morelenbaum\n\nProgramme\nOmar Sosa\nRaíces Un
 idas
UID:event27938@Elbphilharmonie.de
URL:https://www.elbphilharmonie.de/en/whats-on/ndr-bigband-seckou-keita-om
 ar-sosa-jacques-morelenbaum/27938
END:VEVENT
END:VCALENDAR
