BEGIN:VCALENDAR
METHOD:PUBLISH
CALSCALE:GREGORIAN
PRODID:Elbphilharmonie
VERSION:2.0
BEGIN:VTIMEZONE
TZID:Europe/Berlin
BEGIN:DAYLIGHT
TZOFFSETFROM:+0100
TZOFFSETTO:+0200
TZNAME:CEST
DTSTART:20200329T010000
RRULE:FREQ=YEARLY;INTERVAL=1;BYDAY=-1SU;BYMONTH=3
END:DAYLIGHT
BEGIN:STANDARD
TZOFFSETFROM:+0200
TZOFFSETTO:+0100
TZNAME:CET
DTSTART:20201025T010000
RRULE:FREQ=YEARLY;INTERVAL=1;BYDAY=-1SU;BYMONTH=10
END:STANDARD
END:VTIMEZONE
BEGIN:VEVENT
DTSTAMP:20260423T115400Z
DTSTART:20270115T190000Z
DTEND:20270115T210000Z
LOCATION:Studio Eins
SUMMARY:NDR Bigband & Lucas Brum feat. Cansu Arat
DESCRIPTION:Performers\nNDR Bigband\nLucas Passos Brum: guitar\nCansu Arat
 : vocals\n\nProgramme\n»Intersections – Across Oceans\, Shared Pulse:«
UID:event28878@Elbphilharmonie.de
URL:https://www.elbphilharmonie.de/en/whats-on/ndr-bigband-lucas-brum-feat
 -cansu-arat/28878
END:VEVENT
END:VCALENDAR
