BEGIN:VCALENDAR
METHOD:PUBLISH
CALSCALE:GREGORIAN
PRODID:Elbphilharmonie
VERSION:2.0
BEGIN:VTIMEZONE
TZID:Europe/Berlin
BEGIN:DAYLIGHT
TZOFFSETFROM:+0100
TZOFFSETTO:+0200
TZNAME:CEST
DTSTART:20200329T010000
RRULE:FREQ=YEARLY;INTERVAL=1;BYDAY=-1SU;BYMONTH=3
END:DAYLIGHT
BEGIN:STANDARD
TZOFFSETFROM:+0200
TZOFFSETTO:+0100
TZNAME:CET
DTSTART:20201025T010000
RRULE:FREQ=YEARLY;INTERVAL=1;BYDAY=-1SU;BYMONTH=10
END:STANDARD
END:VTIMEZONE
BEGIN:VEVENT
DTSTAMP:20260423T115400Z
DTSTART:20261016T180000Z
DTEND:20261016T200000Z
LOCATION:Studio Eins
SUMMARY:NDR Bigband / Jörg Achim Keller
DESCRIPTION:Performers\nNDR Bigband\nJörg Achim Keller: director\n\nProgr
 amme\n»Masters of Jazz: Clare Fischer«
UID:event28876@Elbphilharmonie.de
URL:https://www.elbphilharmonie.de/en/whats-on/ndr-bigband-jorg-achim-kell
 er/28876
END:VEVENT
END:VCALENDAR
