BEGIN:VCALENDAR
METHOD:PUBLISH
CALSCALE:GREGORIAN
PRODID:Elbphilharmonie
VERSION:2.0
BEGIN:VTIMEZONE
TZID:Europe/Berlin
BEGIN:DAYLIGHT
TZOFFSETFROM:+0100
TZOFFSETTO:+0200
TZNAME:CEST
DTSTART:20200329T010000
RRULE:FREQ=YEARLY;INTERVAL=1;BYDAY=-1SU;BYMONTH=3
END:DAYLIGHT
BEGIN:STANDARD
TZOFFSETFROM:+0200
TZOFFSETTO:+0100
TZNAME:CET
DTSTART:20201025T010000
RRULE:FREQ=YEARLY;INTERVAL=1;BYDAY=-1SU;BYMONTH=10
END:STANDARD
END:VTIMEZONE
BEGIN:VEVENT
DTSTAMP:20260423T213900Z
DTSTART:20261120T190000Z
DTEND:20261120T213000Z
LOCATION:Elbphilharmonie Großer Saal
SUMMARY:Münchner Philharmoniker / Lahav Shani
DESCRIPTION:Performers\nMünchner Philharmoniker\nLahav Shani: piano and c
 onductor\n\nProgramme\nSergej Prokofjew\nSymphony No. 1 in D major\, Op. 2
 5 »Symphonie classique«\nDmitri Schostakowitsch\nKonzert für Klavier un
 d Orchester Nr. 2 F-Dur op. 102\n– Interval – \nGustav Mahler\nSympho
 ny No. 1 in D major
UID:event27946@Elbphilharmonie.de
URL:https://www.elbphilharmonie.de/en/whats-on/munchner-philharmoniker-lah
 av-shani/27946
END:VEVENT
END:VCALENDAR
