BEGIN:VCALENDAR
METHOD:PUBLISH
CALSCALE:GREGORIAN
PRODID:Elbphilharmonie
VERSION:2.0
BEGIN:VTIMEZONE
TZID:Europe/Berlin
BEGIN:DAYLIGHT
TZOFFSETFROM:+0100
TZOFFSETTO:+0200
TZNAME:CEST
DTSTART:20200329T010000
RRULE:FREQ=YEARLY;INTERVAL=1;BYDAY=-1SU;BYMONTH=3
END:DAYLIGHT
BEGIN:STANDARD
TZOFFSETFROM:+0200
TZOFFSETTO:+0100
TZNAME:CET
DTSTART:20201025T010000
RRULE:FREQ=YEARLY;INTERVAL=1;BYDAY=-1SU;BYMONTH=10
END:STANDARD
END:VTIMEZONE
BEGIN:VEVENT
DTSTAMP:20260425T125600Z
DTSTART:20261119T190000Z
DTEND:20261119T212000Z
LOCATION:Elbphilharmonie Großer Saal
SUMMARY:Münchner Philharmoniker / Janine Jansen / Lahav Shani
DESCRIPTION:Performers\nMünchner Philharmoniker\nJanine Jansen: violin\nc
 onductor: Lahav Shani\n\nProgramme\nDmitri Schostakowitsch\nKonzert für V
 ioline und Orchester Nr. 1 a-Moll op. 77\n– Interval – \nModest Musso
 rgsky / Maurice Ravel\nPictures at an Exhibition
UID:event27945@Elbphilharmonie.de
URL:https://www.elbphilharmonie.de/en/whats-on/munchner-philharmoniker-jan
 ine-jansen-lahav-shani/27945
END:VEVENT
END:VCALENDAR
