BEGIN:VCALENDAR
METHOD:PUBLISH
CALSCALE:GREGORIAN
PRODID:Elbphilharmonie
VERSION:2.0
BEGIN:VTIMEZONE
TZID:Europe/Berlin
BEGIN:DAYLIGHT
TZOFFSETFROM:+0100
TZOFFSETTO:+0200
TZNAME:CEST
DTSTART:20200329T010000
RRULE:FREQ=YEARLY;INTERVAL=1;BYDAY=-1SU;BYMONTH=3
END:DAYLIGHT
BEGIN:STANDARD
TZOFFSETFROM:+0200
TZOFFSETTO:+0100
TZNAME:CET
DTSTART:20201025T010000
RRULE:FREQ=YEARLY;INTERVAL=1;BYDAY=-1SU;BYMONTH=10
END:STANDARD
END:VTIMEZONE
BEGIN:VEVENT
DTSTAMP:20260423T115400Z
DTSTART:20261216T190000Z
DTEND:20261216T210000Z
LOCATION:Elbphilharmonie Großer Saal
SUMMARY:Monteverdi: Marienvesper / Lionel Sow
DESCRIPTION:Performers\nBalthasar-Neumann-Orchester\nBalthasar-Neumann-Cho
 r und -Solisten\nconductor: Lionel Sow\n\nProgramme\nClaudio Monteverdi\nV
 espro della Beata Vergine »Marienvesper«
UID:event28408@Elbphilharmonie.de
URL:https://www.elbphilharmonie.de/en/whats-on/monteverdi-marienvesper-lio
 nel-sow/28408
END:VEVENT
END:VCALENDAR
