BEGIN:VCALENDAR
METHOD:PUBLISH
CALSCALE:GREGORIAN
PRODID:Elbphilharmonie
VERSION:2.0
BEGIN:VTIMEZONE
TZID:Europe/Berlin
BEGIN:DAYLIGHT
TZOFFSETFROM:+0100
TZOFFSETTO:+0200
TZNAME:CEST
DTSTART:20200329T010000
RRULE:FREQ=YEARLY;INTERVAL=1;BYDAY=-1SU;BYMONTH=3
END:DAYLIGHT
BEGIN:STANDARD
TZOFFSETFROM:+0200
TZOFFSETTO:+0100
TZNAME:CET
DTSTART:20201025T010000
RRULE:FREQ=YEARLY;INTERVAL=1;BYDAY=-1SU;BYMONTH=10
END:STANDARD
END:VTIMEZONE
BEGIN:VEVENT
DTSTAMP:20260423T195400Z
DTSTART:20270401T173000Z
DTEND:20270401T191500Z
LOCATION:Elbphilharmonie Kleiner Saal
SUMMARY:Marc Ribot
DESCRIPTION:Performers\nMarc Ribot: guitar\n\nProgramme\nSounds of Resista
 nce
UID:event28672@Elbphilharmonie.de
URL:https://www.elbphilharmonie.de/en/whats-on/marc-ribot/28672
END:VEVENT
END:VCALENDAR
