BEGIN:VCALENDAR
METHOD:PUBLISH
CALSCALE:GREGORIAN
PRODID:Elbphilharmonie
VERSION:2.0
BEGIN:VTIMEZONE
TZID:Europe/Berlin
BEGIN:DAYLIGHT
TZOFFSETFROM:+0100
TZOFFSETTO:+0200
TZNAME:CEST
DTSTART:20200329T010000
RRULE:FREQ=YEARLY;INTERVAL=1;BYDAY=-1SU;BYMONTH=3
END:DAYLIGHT
BEGIN:STANDARD
TZOFFSETFROM:+0200
TZOFFSETTO:+0100
TZNAME:CET
DTSTART:20201025T010000
RRULE:FREQ=YEARLY;INTERVAL=1;BYDAY=-1SU;BYMONTH=10
END:STANDARD
END:VTIMEZONE
BEGIN:VEVENT
DTSTAMP:20260423T181800Z
DTSTART:20260925T180000Z
DTEND:20260925T210000Z
LOCATION:Laeiszhalle Kleiner Saal
SUMMARY:Mandelring Quartett / Roland Glassl / Sebastian Klinger
DESCRIPTION:Performers\nMandelring Quartett\nSebastian Schmidt: violin\nNa
 nette Schmidt: violin\nAndreas Willwohl: viola\nBernhard Schmidt: violonce
 llo\nRoland Glassl: viola\nSebastian Klinger: violoncello\n\nProgramme\nDm
 itri Schostakowitsch\nStreichquartett Nr. 1 C-Dur op. 49\nJohannes Brahms
 \nString Sextet No. 1 in B-flat major\, Op. 18\n– Interval – \nPiotr I
 . Tschaikowsky\nString Sextet in D minor\, Op. 70 »Souvenir de Florence«
UID:event27998@Elbphilharmonie.de
URL:https://www.elbphilharmonie.de/en/whats-on/mandelring-quartett-roland-
 glassl-sebastian-klinger/27998
END:VEVENT
END:VCALENDAR
