BEGIN:VCALENDAR
METHOD:PUBLISH
CALSCALE:GREGORIAN
PRODID:Elbphilharmonie
VERSION:2.0
BEGIN:VTIMEZONE
TZID:Europe/Berlin
BEGIN:DAYLIGHT
TZOFFSETFROM:+0100
TZOFFSETTO:+0200
TZNAME:CEST
DTSTART:20200329T010000
RRULE:FREQ=YEARLY;INTERVAL=1;BYDAY=-1SU;BYMONTH=3
END:DAYLIGHT
BEGIN:STANDARD
TZOFFSETFROM:+0200
TZOFFSETTO:+0100
TZNAME:CET
DTSTART:20201025T010000
RRULE:FREQ=YEARLY;INTERVAL=1;BYDAY=-1SU;BYMONTH=10
END:STANDARD
END:VTIMEZONE
BEGIN:VEVENT
DTSTAMP:20260423T183300Z
DTSTART:20260918T180000Z
DTEND:20260918T200000Z
LOCATION:Elbphilharmonie Großer Saal
SUMMARY:Mahler Academy Orchestra / Philipp von Steinaecker
DESCRIPTION:Performers\nMahler Academy Orchestra\nconductor: Philipp von S
 teinaecker\n\nProgramme\nGustav Mahler\nSymphony No. 9\nThe concert takes 
 place without an interval.
UID:event27952@Elbphilharmonie.de
URL:https://www.elbphilharmonie.de/en/whats-on/mahler-academy-orchestra-ph
 ilipp-von-steinaecker/27952
END:VEVENT
END:VCALENDAR
