BEGIN:VCALENDAR
METHOD:PUBLISH
CALSCALE:GREGORIAN
PRODID:Elbphilharmonie
VERSION:2.0
BEGIN:VTIMEZONE
TZID:Europe/Berlin
BEGIN:DAYLIGHT
TZOFFSETFROM:+0100
TZOFFSETTO:+0200
TZNAME:CEST
DTSTART:20200329T010000
RRULE:FREQ=YEARLY;INTERVAL=1;BYDAY=-1SU;BYMONTH=3
END:DAYLIGHT
BEGIN:STANDARD
TZOFFSETFROM:+0200
TZOFFSETTO:+0100
TZNAME:CET
DTSTART:20201025T010000
RRULE:FREQ=YEARLY;INTERVAL=1;BYDAY=-1SU;BYMONTH=10
END:STANDARD
END:VTIMEZONE
BEGIN:VEVENT
DTSTAMP:20260424T003800Z
DTSTART:20261206T133000Z
DTEND:20261206T153000Z
LOCATION:Laeiszhalle Großer Saal
SUMMARY:»Magische Weihnachten mit Singa«
DESCRIPTION:Performers\nSymphoniker Hamburg\nSinga Gätgens: moderation\nc
 onductor: Jason Weaver\n\nProgramme\nEngelbert Humperdinck\nHänsel und Gr
 etel / Märchenoper in drei Bildern (Auszüge)\nWolfgang Amadeus Mozart\nD
 ie Zauberflöte (Auszüge) (Libretto: Emanuel Schikaneder)\nsowie weitere 
 WErke
UID:event28063@Elbphilharmonie.de
URL:https://www.elbphilharmonie.de/en/whats-on/magische-weihnachten-mit-si
 nga/28063
END:VEVENT
END:VCALENDAR
