BEGIN:VCALENDAR
METHOD:PUBLISH
CALSCALE:GREGORIAN
PRODID:Elbphilharmonie
VERSION:2.0
BEGIN:VTIMEZONE
TZID:Europe/Berlin
BEGIN:DAYLIGHT
TZOFFSETFROM:+0100
TZOFFSETTO:+0200
TZNAME:CEST
DTSTART:20200329T010000
RRULE:FREQ=YEARLY;INTERVAL=1;BYDAY=-1SU;BYMONTH=3
END:DAYLIGHT
BEGIN:STANDARD
TZOFFSETFROM:+0200
TZOFFSETTO:+0100
TZNAME:CET
DTSTART:20201025T010000
RRULE:FREQ=YEARLY;INTERVAL=1;BYDAY=-1SU;BYMONTH=10
END:STANDARD
END:VTIMEZONE
BEGIN:VEVENT
DTSTAMP:20260423T115500Z
DTSTART:20261129T140000Z
DTEND:20261129T151500Z
LOCATION:Elbphilharmonie Kleiner Saal
SUMMARY:Louis Michot & Leyla McCalla
DESCRIPTION:Performers\nLouis Michot: violin\, guitar\, vocals\nLeyla McCa
 lla: violoncello\, banjo\, vocals\n\nProgramme\nTraditionelle französisch
 e Musik aus Louisiana mit Cajun- und kreolischen Einflüssen
UID:event27960@Elbphilharmonie.de
URL:https://www.elbphilharmonie.de/en/whats-on/louis-michot-leyla-mccalla/
 27960
END:VEVENT
END:VCALENDAR
