BEGIN:VCALENDAR
METHOD:PUBLISH
CALSCALE:GREGORIAN
PRODID:Elbphilharmonie
VERSION:2.0
BEGIN:VTIMEZONE
TZID:Europe/Berlin
BEGIN:DAYLIGHT
TZOFFSETFROM:+0100
TZOFFSETTO:+0200
TZNAME:CEST
DTSTART:20200329T010000
RRULE:FREQ=YEARLY;INTERVAL=1;BYDAY=-1SU;BYMONTH=3
END:DAYLIGHT
BEGIN:STANDARD
TZOFFSETFROM:+0200
TZOFFSETTO:+0100
TZNAME:CET
DTSTART:20201025T010000
RRULE:FREQ=YEARLY;INTERVAL=1;BYDAY=-1SU;BYMONTH=10
END:STANDARD
END:VTIMEZONE
BEGIN:VEVENT
DTSTAMP:20260423T195400Z
DTSTART:20270424T180000Z
DTEND:20270424T200000Z
LOCATION:Elbphilharmonie Großer Saal
SUMMARY:Lila Downs
DESCRIPTION:Performers\nLila Downs: vocals\nJosh Deutsch: trumpet\nGeorge 
 Saenz: trombone\nSinuhé Padilla Isunza: jarana\nRafael Gomez Nuñez: guit
 ar\nLuis Guzman: double bass\nNakeiltha Campbell: percussion\nLautaro Burg
 os: drums\n\nProgramme\nCambias Mi Mundo - You Change My World
UID:event28397@Elbphilharmonie.de
URL:https://www.elbphilharmonie.de/en/whats-on/lila-downs/28397
END:VEVENT
END:VCALENDAR
