BEGIN:VCALENDAR
METHOD:PUBLISH
CALSCALE:GREGORIAN
PRODID:Elbphilharmonie
VERSION:2.0
BEGIN:VTIMEZONE
TZID:Europe/Berlin
BEGIN:DAYLIGHT
TZOFFSETFROM:+0100
TZOFFSETTO:+0200
TZNAME:CEST
DTSTART:20200329T010000
RRULE:FREQ=YEARLY;INTERVAL=1;BYDAY=-1SU;BYMONTH=3
END:DAYLIGHT
BEGIN:STANDARD
TZOFFSETFROM:+0200
TZOFFSETTO:+0100
TZNAME:CET
DTSTART:20201025T010000
RRULE:FREQ=YEARLY;INTERVAL=1;BYDAY=-1SU;BYMONTH=10
END:STANDARD
END:VTIMEZONE
BEGIN:VEVENT
DTSTAMP:20260423T181800Z
DTSTART:20261130T183000Z
DTEND:20261130T201500Z
LOCATION:Elbphilharmonie Kleiner Saal
SUMMARY:Leonkoro Quartett
DESCRIPTION:Performers\nLeonkoro Quartett\nJonathan Schwarz: violin\nEmiri
  Kakiuchi: violin\nMayu Konoe: viola\nLukas Schwarz: violoncello\n\nProgra
 mme\nLudwig van Beethoven\nString Quartet in C minor\, Op. 18/4\nDmitri Sc
 hostakowitsch\nString Quartet No. 8 in C minor\, Op. 110\n– Interval –
  \nFranz Schubert\nStreichquartett a-Moll D 804 »Rosamunde«
UID:event28143@Elbphilharmonie.de
URL:https://www.elbphilharmonie.de/en/whats-on/leonkoro-quartett/28143
END:VEVENT
END:VCALENDAR
