BEGIN:VCALENDAR
METHOD:PUBLISH
CALSCALE:GREGORIAN
PRODID:Elbphilharmonie
VERSION:2.0
BEGIN:VTIMEZONE
TZID:Europe/Berlin
BEGIN:DAYLIGHT
TZOFFSETFROM:+0100
TZOFFSETTO:+0200
TZNAME:CEST
DTSTART:20200329T010000
RRULE:FREQ=YEARLY;INTERVAL=1;BYDAY=-1SU;BYMONTH=3
END:DAYLIGHT
BEGIN:STANDARD
TZOFFSETFROM:+0200
TZOFFSETTO:+0100
TZNAME:CET
DTSTART:20201025T010000
RRULE:FREQ=YEARLY;INTERVAL=1;BYDAY=-1SU;BYMONTH=10
END:STANDARD
END:VTIMEZONE
BEGIN:VEVENT
DTSTAMP:20260423T151400Z
DTSTART:20270415T180000Z
DTEND:20270415T194000Z
LOCATION:Elbphilharmonie Großer Saal
SUMMARY:Leif Ove Andsnes / Piano Recital
DESCRIPTION:Performers\nLeif Ove Andsnes: piano\n\nProgramme\nLudwig van B
 eethoven\nSonata for Piano in E major\, Op. 109\nSonata for Piano in A-fla
 t major\, Op. 110\n– Interval – \nLudwig van Beethoven\nSonata for Pia
 no in C minor\, Op. 111
UID:event28035@Elbphilharmonie.de
URL:https://www.elbphilharmonie.de/en/whats-on/leif-ove-andsnes-piano-reci
 tal/28035
END:VEVENT
END:VCALENDAR
