BEGIN:VCALENDAR
METHOD:PUBLISH
CALSCALE:GREGORIAN
PRODID:Elbphilharmonie
VERSION:2.0
BEGIN:VTIMEZONE
TZID:Europe/Berlin
BEGIN:DAYLIGHT
TZOFFSETFROM:+0100
TZOFFSETTO:+0200
TZNAME:CEST
DTSTART:20200329T010000
RRULE:FREQ=YEARLY;INTERVAL=1;BYDAY=-1SU;BYMONTH=3
END:DAYLIGHT
BEGIN:STANDARD
TZOFFSETFROM:+0200
TZOFFSETTO:+0100
TZNAME:CET
DTSTART:20201025T010000
RRULE:FREQ=YEARLY;INTERVAL=1;BYDAY=-1SU;BYMONTH=10
END:STANDARD
END:VTIMEZONE
BEGIN:VEVENT
DTSTAMP:20260423T195400Z
DTSTART:20270525T173000Z
DTEND:20270525T203000Z
LOCATION:Elbphilharmonie Kleiner Saal
SUMMARY:Le Balcon / Maxime Pascal
DESCRIPTION:Performers\nLe Balcon: ensemble\nGiani Caserotto: electric gui
 tar\nconductor: Maxime Pascal\n\nProgramme\nFausto Romitelli\nTrash TV Tra
 nce\nProfessor Bad Trip: Lesson I\nProfessor Bad Trip: Lesson II\nProfesso
 r Bad Trip: Lesson III
UID:event28673@Elbphilharmonie.de
URL:https://www.elbphilharmonie.de/en/whats-on/le-balcon-maxime-pascal/286
 73
END:VEVENT
END:VCALENDAR
