BEGIN:VCALENDAR
METHOD:PUBLISH
CALSCALE:GREGORIAN
PRODID:Elbphilharmonie
VERSION:2.0
BEGIN:VTIMEZONE
TZID:Europe/Berlin
BEGIN:DAYLIGHT
TZOFFSETFROM:+0100
TZOFFSETTO:+0200
TZNAME:CEST
DTSTART:20200329T010000
RRULE:FREQ=YEARLY;INTERVAL=1;BYDAY=-1SU;BYMONTH=3
END:DAYLIGHT
BEGIN:STANDARD
TZOFFSETFROM:+0200
TZOFFSETTO:+0100
TZNAME:CET
DTSTART:20201025T010000
RRULE:FREQ=YEARLY;INTERVAL=1;BYDAY=-1SU;BYMONTH=10
END:STANDARD
END:VTIMEZONE
BEGIN:VEVENT
DTSTAMP:20260423T121000Z
DTSTART:20270422T173000Z
DTEND:20270422T193000Z
LOCATION:Elbphilharmonie Kleiner Saal
SUMMARY:Kuss Quartett
DESCRIPTION:Performers\nKuss Quartett\nJana Kuss: violin\nOliver Wille: vi
 olin\nWilliam Coleman: viola\nMikayel Hakhnazaryan: violoncello\n\nProgram
 me\nEnno Poppe\nAuftakt\nManfred Trojahn\nEin einsames Cello hallt durch d
 ie leere Saalflucht eines ländlichen\, sommerlichen Château\nMark Andre\
 nSieben Stücke für Streichquartett\nIsabel Mundry\nEine Postkarte\nFranc
 isco Coll\nStreichquartett Nr. 1 »Códices«\n– Interval – \nGyörgy 
 Kurtág\nOfficium breve in memoriam Andreae Szervánszky für Streichquart
 ett op. 28\nRebecca Saunders\nPostkarte\nJohannes Maria Staud\nCahier des
  équilibres mouvants
UID:event28795@Elbphilharmonie.de
URL:https://www.elbphilharmonie.de/en/whats-on/kuss-quartett/28795
END:VEVENT
END:VCALENDAR
