BEGIN:VCALENDAR
METHOD:PUBLISH
CALSCALE:GREGORIAN
PRODID:Elbphilharmonie
VERSION:2.0
BEGIN:VTIMEZONE
TZID:Europe/Berlin
BEGIN:DAYLIGHT
TZOFFSETFROM:+0100
TZOFFSETTO:+0200
TZNAME:CEST
DTSTART:20200329T010000
RRULE:FREQ=YEARLY;INTERVAL=1;BYDAY=-1SU;BYMONTH=3
END:DAYLIGHT
BEGIN:STANDARD
TZOFFSETFROM:+0200
TZOFFSETTO:+0100
TZNAME:CET
DTSTART:20201025T010000
RRULE:FREQ=YEARLY;INTERVAL=1;BYDAY=-1SU;BYMONTH=10
END:STANDARD
END:VTIMEZONE
BEGIN:VEVENT
DTSTAMP:20260423T115400Z
DTSTART:20270319T143000Z
DTEND:20270319T153000Z
LOCATION:Albertinen Haus
SUMMARY:Klangzeit
DESCRIPTION:Performers\nEnsemble Resonanz\n\nProgramme\n»Von Tag zu Nacht
 «\nDeutsche Volkslieder sowie Werke von Luigi Boccherini\, Wolfgang Amade
 us Mozart\, György Ligeti u.a.\nVolkslied\nDie Sonne geht auf (Kanon)\nLu
 igi Boccherini\nStreichquintett E-Dur op.11/5\nVolkslied\nDat du min Leevs
 ten büst\nGyörgy Ligeti\nBallad and Dance\nJean-Philippe Rameau\nLes ind
 es galantes\nEinojuhani Rautavaara\nPelimannit op. 1 (The Fiddlers)\nGiov
 anni Battista Vitali\nPartita sopra diverse Sonate\nHeinrich Ignaz Franz B
 iber\nSerenata à 5 »Der Nachtwächter«\nVolkslied\nHört ihr Herren las
 st euch sagen\nGeorg Philipp Telemann\nSuite Alster\nFantasie für Violine
  Nr. 9 h-Moll TWV 40-22\nVolkslied\nDie Gedanken sind frei\nWolfgang Amade
 us Mozart\nSerenade für Streicher G-Dur Nr. 13 KV 525\nMarco Uccellini\nA
 ria sopra »La Bergamasca« / from: Sonate arie e correnti\, Op. 3
UID:event28698@Elbphilharmonie.de
URL:https://www.elbphilharmonie.de/en/whats-on/klangzeit/28698
END:VEVENT
END:VCALENDAR
