BEGIN:VCALENDAR
METHOD:PUBLISH
CALSCALE:GREGORIAN
PRODID:Elbphilharmonie
VERSION:2.0
BEGIN:VTIMEZONE
TZID:Europe/Berlin
BEGIN:DAYLIGHT
TZOFFSETFROM:+0100
TZOFFSETTO:+0200
TZNAME:CEST
DTSTART:20200329T010000
RRULE:FREQ=YEARLY;INTERVAL=1;BYDAY=-1SU;BYMONTH=3
END:DAYLIGHT
BEGIN:STANDARD
TZOFFSETFROM:+0200
TZOFFSETTO:+0100
TZNAME:CET
DTSTART:20201025T010000
RRULE:FREQ=YEARLY;INTERVAL=1;BYDAY=-1SU;BYMONTH=10
END:STANDARD
END:VTIMEZONE
BEGIN:VEVENT
DTSTAMP:20260423T115400Z
DTSTART:20261105T150000Z
DTEND:20261105T160000Z
LOCATION:Das Rauhe Haus Wichernsaal
SUMMARY:Klangzeit
DESCRIPTION:Performers\nEnsemble Resonanz\n\nProgramme\n»Wetterwunder«\n
 Krzysztof Penderecki\nDrei Stücke im alten Stil / nach der Musik zu dem F
 ilm »Die Handschrift von Saragossa«\n(Bearbeitung von Gregor Dierck)\nRo
 bert Fuchs\nFantasiestück op. 105/2\nVolkslied\nBunt sind schon die Wäl
 der\nMichael Haydn\nDivertimento Es-Dur für Viola\, Violoncello und Kontr
 abass\nKrzysztof Penderecki\nDrei Stücke im alten Stil\, Arr. Gregor Doer
 ck / nach der Musik zu dem Film »Die Handschrift von Saragossa«\nVolksli
 ed\nHejo\, spann’ den Wagen an\nJean Sibelius\nWater Droplets for Violin
  and Violoncello\nJavier Alvarez\nMetro Chabacano\nFrancis Cutting\nGreens
 leeves\nWolfgang Amadeus Mozart\nAllegro di molto / from: Divertimento in 
 B-flat major\, KV 137 »Salzburg Symphony No. 2«\nGrażyna Bacewicz\nDuos
  für zwei Violinen »Folk Songs«\nVolkslied\nO wie ist es kalt geworden\
 nAntonio Vivaldi\nConcerto f-Moll RV 297 »L’inverno (Der Winter)« / au
 s: Die vier Jahreszeiten\nVolkslied\nDie Sonne geht auf\nBéla Bartók\nMe
 netelő nóta 2 (Ungarischer Marsch 2) / from: 44 Duos for Two Violins\, S
 z 98\nScott Joplin\nThe Easy Winners
UID:event28693@Elbphilharmonie.de
URL:https://www.elbphilharmonie.de/en/whats-on/klangzeit/28693
END:VEVENT
END:VCALENDAR
