BEGIN:VCALENDAR
METHOD:PUBLISH
CALSCALE:GREGORIAN
PRODID:Elbphilharmonie
VERSION:2.0
BEGIN:VTIMEZONE
TZID:Europe/Berlin
BEGIN:DAYLIGHT
TZOFFSETFROM:+0100
TZOFFSETTO:+0200
TZNAME:CEST
DTSTART:20200329T010000
RRULE:FREQ=YEARLY;INTERVAL=1;BYDAY=-1SU;BYMONTH=3
END:DAYLIGHT
BEGIN:STANDARD
TZOFFSETFROM:+0200
TZOFFSETTO:+0100
TZNAME:CET
DTSTART:20201025T010000
RRULE:FREQ=YEARLY;INTERVAL=1;BYDAY=-1SU;BYMONTH=10
END:STANDARD
END:VTIMEZONE
BEGIN:VEVENT
DTSTAMP:20260423T162800Z
DTSTART:20270405T091500Z
DTEND:20270405T100000Z
LOCATION:Elbphilharmonie Kaistudio 1
SUMMARY:Kindergarten Concert »SCHNICK«
DESCRIPTION:Performers\nCatriona McKay: celtic harp\nChristopher Stout: fi
 ddle\nSerena Galante: play and movement\nDaniel Esteban: play and movement
 \nDan Tanson: stage direction\nstage: Julie Conrad\nAlexandra Lichtenberge
 r: costume design\n\nProgramme\nSzenisches Konzert mit Interaktion
UID:event28315@Elbphilharmonie.de
URL:https://www.elbphilharmonie.de/en/whats-on/kindergarten-concert-schnic
 k/28315
END:VEVENT
END:VCALENDAR
