BEGIN:VCALENDAR
METHOD:PUBLISH
CALSCALE:GREGORIAN
PRODID:Elbphilharmonie
VERSION:2.0
BEGIN:VTIMEZONE
TZID:Europe/Berlin
BEGIN:DAYLIGHT
TZOFFSETFROM:+0100
TZOFFSETTO:+0200
TZNAME:CEST
DTSTART:20200329T010000
RRULE:FREQ=YEARLY;INTERVAL=1;BYDAY=-1SU;BYMONTH=3
END:DAYLIGHT
BEGIN:STANDARD
TZOFFSETFROM:+0200
TZOFFSETTO:+0100
TZNAME:CET
DTSTART:20201025T010000
RRULE:FREQ=YEARLY;INTERVAL=1;BYDAY=-1SU;BYMONTH=10
END:STANDARD
END:VTIMEZONE
BEGIN:VEVENT
DTSTAMP:20260423T213900Z
DTSTART:20270531T091500Z
DTEND:20270531T100000Z
LOCATION:Elbphilharmonie Kaistudio 1
SUMMARY:Kindergarten Concert »Radikinas«
DESCRIPTION:Performers\nMosaicollective\nElena La Conte: flute\, vocals\, 
 composition\nKristina van de Sand: violin\, viola\, vocals\, composition\n
 Margherita Lavosi: acting\, vocals\nElide Gramegna: live illustration\n
UID:event28307@Elbphilharmonie.de
URL:https://www.elbphilharmonie.de/en/whats-on/kindergarten-concert-radiki
 nas/28307
END:VEVENT
END:VCALENDAR
