BEGIN:VCALENDAR
METHOD:PUBLISH
CALSCALE:GREGORIAN
PRODID:Elbphilharmonie
VERSION:2.0
BEGIN:VTIMEZONE
TZID:Europe/Berlin
BEGIN:DAYLIGHT
TZOFFSETFROM:+0100
TZOFFSETTO:+0200
TZNAME:CEST
DTSTART:20200329T010000
RRULE:FREQ=YEARLY;INTERVAL=1;BYDAY=-1SU;BYMONTH=3
END:DAYLIGHT
BEGIN:STANDARD
TZOFFSETFROM:+0200
TZOFFSETTO:+0100
TZNAME:CET
DTSTART:20201025T010000
RRULE:FREQ=YEARLY;INTERVAL=1;BYDAY=-1SU;BYMONTH=10
END:STANDARD
END:VTIMEZONE
BEGIN:VEVENT
DTSTAMP:20260423T164500Z
DTSTART:20261211T101500Z
DTEND:20261211T110000Z
LOCATION:Elbphilharmonie Kaistudio 1
SUMMARY:Kindergarten Concert »Los!«
DESCRIPTION:Performers\nSons de Toile\nAnouk Roussely: light design\nSimon
  Filippi: voice\, bodypercussion\nJulien Vasnier: voice\, bodypercussion\n
 \nProgramme\nKörpermusik
UID:event28310@Elbphilharmonie.de
URL:https://www.elbphilharmonie.de/en/whats-on/kindergarten-concert-los/28
 310
END:VEVENT
END:VCALENDAR
