BEGIN:VCALENDAR
METHOD:PUBLISH
CALSCALE:GREGORIAN
PRODID:Elbphilharmonie
VERSION:2.0
BEGIN:VTIMEZONE
TZID:Europe/Berlin
BEGIN:DAYLIGHT
TZOFFSETFROM:+0100
TZOFFSETTO:+0200
TZNAME:CEST
DTSTART:20200329T010000
RRULE:FREQ=YEARLY;INTERVAL=1;BYDAY=-1SU;BYMONTH=3
END:DAYLIGHT
BEGIN:STANDARD
TZOFFSETFROM:+0200
TZOFFSETTO:+0100
TZNAME:CET
DTSTART:20201025T010000
RRULE:FREQ=YEARLY;INTERVAL=1;BYDAY=-1SU;BYMONTH=10
END:STANDARD
END:VTIMEZONE
BEGIN:VEVENT
DTSTAMP:20260423T181700Z
DTSTART:20270126T183000Z
DTEND:20270126T201500Z
LOCATION:Elbphilharmonie Kleiner Saal
SUMMARY:Kerbez Ensemble
DESCRIPTION:Performers\nKerbez: ensemble\nAzat Bazarbekov: sybyzgy\, ooz k
 omuz\nDinara Talantbekova: kyl kyyak\nDaniel Maamytov: komuz\, ooz komuz\n
 Daniyar Abylabek uulu: komuz\, vocals\nKasiyet Niyazbekova: violoncello\nD
 astan Birimkulov: dobulbas\, ooz komuz\n\nProgramme\nFolk and Epic Songs f
 rom Kyrgyzstan
UID:event28181@Elbphilharmonie.de
URL:https://www.elbphilharmonie.de/en/whats-on/kerbez-ensemble/28181
END:VEVENT
END:VCALENDAR
