BEGIN:VCALENDAR
METHOD:PUBLISH
CALSCALE:GREGORIAN
PRODID:Elbphilharmonie
VERSION:2.0
BEGIN:VTIMEZONE
TZID:Europe/Berlin
BEGIN:DAYLIGHT
TZOFFSETFROM:+0100
TZOFFSETTO:+0200
TZNAME:CEST
DTSTART:20200329T010000
RRULE:FREQ=YEARLY;INTERVAL=1;BYDAY=-1SU;BYMONTH=3
END:DAYLIGHT
BEGIN:STANDARD
TZOFFSETFROM:+0200
TZOFFSETTO:+0100
TZNAME:CET
DTSTART:20201025T010000
RRULE:FREQ=YEARLY;INTERVAL=1;BYDAY=-1SU;BYMONTH=10
END:STANDARD
END:VTIMEZONE
BEGIN:VEVENT
DTSTAMP:20260423T115500Z
DTSTART:20261128T143000Z
DTEND:20261128T154000Z
LOCATION:Elbphilharmonie Kleiner Saal
SUMMARY:Karen Ouzounian / Lembit Beecher
DESCRIPTION:Performers\nKaren Ouzounian: violoncello\nLembit Beecher: pian
 o\n\nProgramme\n»Mayrig«\nSongs and stories from the Armenian diaspora
UID:event27982@Elbphilharmonie.de
URL:https://www.elbphilharmonie.de/en/whats-on/karen-ouzounian-lembit-beec
 her/27982
END:VEVENT
END:VCALENDAR
