BEGIN:VCALENDAR
METHOD:PUBLISH
CALSCALE:GREGORIAN
PRODID:Elbphilharmonie
VERSION:2.0
BEGIN:VTIMEZONE
TZID:Europe/Berlin
BEGIN:DAYLIGHT
TZOFFSETFROM:+0100
TZOFFSETTO:+0200
TZNAME:CEST
DTSTART:20200329T010000
RRULE:FREQ=YEARLY;INTERVAL=1;BYDAY=-1SU;BYMONTH=3
END:DAYLIGHT
BEGIN:STANDARD
TZOFFSETFROM:+0200
TZOFFSETTO:+0100
TZNAME:CET
DTSTART:20201025T010000
RRULE:FREQ=YEARLY;INTERVAL=1;BYDAY=-1SU;BYMONTH=10
END:STANDARD
END:VTIMEZONE
BEGIN:VEVENT
DTSTAMP:20260422T172600Z
DTSTART:20260829T180000Z
DTEND:20260829T202000Z
LOCATION:Elbphilharmonie Großer Saal
SUMMARY:Kansas City Symphony / Gil Shaham / Matthias Pintscher
DESCRIPTION:Performers\nKansas City Symphony\nGil Shaham: violin\nconducto
 r: Matthias Pintscher\n\nProgramme\nAaron Copland\nAppalachian Spring / Su
 ite for Orchestra\nPiotr I. Tschaikowsky\nConcerto for Violin and Orchestr
 a in D major\, Op. 35\n– Interval – \nSergej Rachmaninow\nSymphony No.
  3 in A minor\, Op. 44
UID:event27950@Elbphilharmonie.de
URL:https://www.elbphilharmonie.de/en/whats-on/kansas-city-symphony-gil-sh
 aham-matthias-pintscher/27950
END:VEVENT
END:VCALENDAR
