BEGIN:VCALENDAR
METHOD:PUBLISH
CALSCALE:GREGORIAN
PRODID:Elbphilharmonie
VERSION:2.0
BEGIN:VTIMEZONE
TZID:Europe/Berlin
BEGIN:DAYLIGHT
TZOFFSETFROM:+0100
TZOFFSETTO:+0200
TZNAME:CEST
DTSTART:20200329T010000
RRULE:FREQ=YEARLY;INTERVAL=1;BYDAY=-1SU;BYMONTH=3
END:DAYLIGHT
BEGIN:STANDARD
TZOFFSETFROM:+0200
TZOFFSETTO:+0100
TZNAME:CET
DTSTART:20201025T010000
RRULE:FREQ=YEARLY;INTERVAL=1;BYDAY=-1SU;BYMONTH=10
END:STANDARD
END:VTIMEZONE
BEGIN:VEVENT
DTSTAMP:20260423T122800Z
DTSTART:20270119T190000Z
DTEND:20270119T220000Z
LOCATION:Elbphilharmonie Großer Saal
SUMMARY:Kammermusikfest – Beethoven!
DESCRIPTION:Performers\nSascha Maisky: violin\nAndra Heesch: viola\nMischa
  Maisky: violoncello\nBar Zermach: french horn\nLily Maisky: piano\n\nProg
 ramme\nLudwig van Beethoven\nPiano Trio in D major\, Op. 70/1 »Ghost«\nS
 onata for Horn and Piano in F Major\, Op. 17\nDuo for viola and violoncell
 o\, WoO 32 »Mit zwei obligaten Augengläsern«\nBernhard Heinrich Romberg
 \nSonate für Violoncello und Klavier B-Dur op. 43/1
UID:event28005@Elbphilharmonie.de
URL:https://www.elbphilharmonie.de/en/whats-on/kammermusikfest-beethoven/2
 8005
END:VEVENT
END:VCALENDAR
