BEGIN:VCALENDAR
METHOD:PUBLISH
CALSCALE:GREGORIAN
PRODID:Elbphilharmonie
VERSION:2.0
BEGIN:VTIMEZONE
TZID:Europe/Berlin
BEGIN:DAYLIGHT
TZOFFSETFROM:+0100
TZOFFSETTO:+0200
TZNAME:CEST
DTSTART:20200329T010000
RRULE:FREQ=YEARLY;INTERVAL=1;BYDAY=-1SU;BYMONTH=3
END:DAYLIGHT
BEGIN:STANDARD
TZOFFSETFROM:+0200
TZOFFSETTO:+0100
TZNAME:CET
DTSTART:20201025T010000
RRULE:FREQ=YEARLY;INTERVAL=1;BYDAY=-1SU;BYMONTH=10
END:STANDARD
END:VTIMEZONE
BEGIN:VEVENT
DTSTAMP:20260423T115500Z
DTSTART:20270219T190000Z
DTEND:20270219T210000Z
LOCATION:Elbphilharmonie Großer Saal
SUMMARY:Julian Lage »Scenes from Above«
DESCRIPTION:Performers\nJulian Lage: guitar\nJohn Medeski: hammond organ\n
 Jorge Roeder: bass\nKenny Wollesen: drums\n\nProgramme\nScenes from Above
UID:event28017@Elbphilharmonie.de
URL:https://www.elbphilharmonie.de/en/whats-on/julian-lage-scenes-from-abo
 ve/28017
END:VEVENT
END:VCALENDAR
