BEGIN:VCALENDAR
METHOD:PUBLISH
CALSCALE:GREGORIAN
PRODID:Elbphilharmonie
VERSION:2.0
BEGIN:VTIMEZONE
TZID:Europe/Berlin
BEGIN:DAYLIGHT
TZOFFSETFROM:+0100
TZOFFSETTO:+0200
TZNAME:CEST
DTSTART:20200329T010000
RRULE:FREQ=YEARLY;INTERVAL=1;BYDAY=-1SU;BYMONTH=3
END:DAYLIGHT
BEGIN:STANDARD
TZOFFSETFROM:+0200
TZOFFSETTO:+0100
TZNAME:CET
DTSTART:20201025T010000
RRULE:FREQ=YEARLY;INTERVAL=1;BYDAY=-1SU;BYMONTH=10
END:STANDARD
END:VTIMEZONE
BEGIN:VEVENT
DTSTAMP:20260424T030800Z
DTSTART:20270414T173000Z
DTEND:20270414T193000Z
LOCATION:Elbphilharmonie Kleiner Saal
SUMMARY:Johnathan Blake
DESCRIPTION:Performers\nMorgan Guerin: saxophone\, EWI\nFabian Almazan: pi
 ano\, electronics\nJalen Baker: vibraphone\nDezron Douglas: bass\nJohnatha
 n Blake: drums\n\nProgramme\nMy Life Matters
UID:event28773@Elbphilharmonie.de
URL:https://www.elbphilharmonie.de/en/whats-on/johnathan-blake/28773
END:VEVENT
END:VCALENDAR
