BEGIN:VCALENDAR
METHOD:PUBLISH
CALSCALE:GREGORIAN
PRODID:Elbphilharmonie
VERSION:2.0
BEGIN:VTIMEZONE
TZID:Europe/Berlin
BEGIN:DAYLIGHT
TZOFFSETFROM:+0100
TZOFFSETTO:+0200
TZNAME:CEST
DTSTART:20200329T010000
RRULE:FREQ=YEARLY;INTERVAL=1;BYDAY=-1SU;BYMONTH=3
END:DAYLIGHT
BEGIN:STANDARD
TZOFFSETFROM:+0200
TZOFFSETTO:+0100
TZNAME:CET
DTSTART:20201025T010000
RRULE:FREQ=YEARLY;INTERVAL=1;BYDAY=-1SU;BYMONTH=10
END:STANDARD
END:VTIMEZONE
BEGIN:VEVENT
DTSTAMP:20260423T115400Z
DTSTART:20261108T190000Z
DTEND:20261108T210000Z
LOCATION:Elbphilharmonie Großer Saal
SUMMARY:Joe Lovano: »Coltrane 100: Both Directions at Once«
DESCRIPTION:Performers\nJoe Lovano: saxophone\nMelissa Aldana: saxophone\n
 Nduduzo Makhathini: piano\nLinda May Han Oh: bass guitar\nJeff »Tain« Wa
 tts: drums\n\nProgramme\nColtrane 100: Both Directions at Once
UID:event27953@Elbphilharmonie.de
URL:https://www.elbphilharmonie.de/en/whats-on/joe-lovano-coltrane-100-bot
 h-directions-at-once/27953
END:VEVENT
END:VCALENDAR
