BEGIN:VCALENDAR
METHOD:PUBLISH
CALSCALE:GREGORIAN
PRODID:Elbphilharmonie
VERSION:2.0
BEGIN:VTIMEZONE
TZID:Europe/Berlin
BEGIN:DAYLIGHT
TZOFFSETFROM:+0100
TZOFFSETTO:+0200
TZNAME:CEST
DTSTART:20200329T010000
RRULE:FREQ=YEARLY;INTERVAL=1;BYDAY=-1SU;BYMONTH=3
END:DAYLIGHT
BEGIN:STANDARD
TZOFFSETFROM:+0200
TZOFFSETTO:+0100
TZNAME:CET
DTSTART:20201025T010000
RRULE:FREQ=YEARLY;INTERVAL=1;BYDAY=-1SU;BYMONTH=10
END:STANDARD
END:VTIMEZONE
BEGIN:VEVENT
DTSTAMP:20260423T145800Z
DTSTART:20261212T183000Z
DTEND:20261212T201000Z
LOCATION:Elbphilharmonie Kleiner Saal
SUMMARY:Jaemin Han / Roman Borisov
DESCRIPTION:Performers\nJaemin Han: violoncello\nRoman Borisov: piano\n\nP
 rogramme\nLeoš Janáček\nPohádka (fairytales) for violoncello and piano
 \nLudwig van Beethoven\nSonata for Violoncello and Piano in D major\, Op. 
 102/2\n– Interval – \nSergej Rachmaninow\nSonata for Violoncello and P
 iano in G minor\, Op. 19
UID:event28015@Elbphilharmonie.de
URL:https://www.elbphilharmonie.de/en/whats-on/jaemin-han-roman-borisov/28
 015
END:VEVENT
END:VCALENDAR
