BEGIN:VCALENDAR
METHOD:PUBLISH
CALSCALE:GREGORIAN
PRODID:Elbphilharmonie
VERSION:2.0
BEGIN:VTIMEZONE
TZID:Europe/Berlin
BEGIN:DAYLIGHT
TZOFFSETFROM:+0100
TZOFFSETTO:+0200
TZNAME:CEST
DTSTART:20200329T010000
RRULE:FREQ=YEARLY;INTERVAL=1;BYDAY=-1SU;BYMONTH=3
END:DAYLIGHT
BEGIN:STANDARD
TZOFFSETFROM:+0200
TZOFFSETTO:+0100
TZNAME:CET
DTSTART:20201025T010000
RRULE:FREQ=YEARLY;INTERVAL=1;BYDAY=-1SU;BYMONTH=10
END:STANDARD
END:VTIMEZONE
BEGIN:VEVENT
DTSTAMP:20260423T134000Z
DTSTART:20270127T190000Z
DTEND:20270127T211500Z
LOCATION:Elbphilharmonie Großer Saal
SUMMARY:Iveta Apkalna\, organ
DESCRIPTION:Performers\nIveta Apkalna: organ\n\nProgramme\nDmitri Schostak
 owitsch\nPassacaglia aus der Oper »Lady Macbeth von Mzensk«\nFranz Liszt
 \nFantasie und Fuge über den Choral »Ad nos\, ad salutarem undam« S 259
 \nAivars Kalējs\nToccata on the Chorale Allein Gott in der Höh’ sei Eh
 r\n– Interval – \nPhilip Glass\nFinale of the 3rd act / from the opera
  »Satyagraha« (adaptation for organ by Michael Riesman)\nJohann Sebastia
 n Bach\nPassacaglia c-Moll BWV 582\nFranz Liszt\nPrometheus / symphonic po
 em No. 5\, S 99
UID:event28039@Elbphilharmonie.de
URL:https://www.elbphilharmonie.de/en/whats-on/iveta-apkalna-organ/28039
END:VEVENT
END:VCALENDAR
