BEGIN:VCALENDAR
METHOD:PUBLISH
CALSCALE:GREGORIAN
PRODID:Elbphilharmonie
VERSION:2.0
BEGIN:VTIMEZONE
TZID:Europe/Berlin
BEGIN:DAYLIGHT
TZOFFSETFROM:+0100
TZOFFSETTO:+0200
TZNAME:CEST
DTSTART:20200329T010000
RRULE:FREQ=YEARLY;INTERVAL=1;BYDAY=-1SU;BYMONTH=3
END:DAYLIGHT
BEGIN:STANDARD
TZOFFSETFROM:+0200
TZOFFSETTO:+0100
TZNAME:CET
DTSTART:20201025T010000
RRULE:FREQ=YEARLY;INTERVAL=1;BYDAY=-1SU;BYMONTH=10
END:STANDARD
END:VTIMEZONE
BEGIN:VEVENT
DTSTAMP:20260423T134000Z
DTSTART:20270225T190000Z
DTEND:20270225T213000Z
LOCATION:Elbphilharmonie Großer Saal
SUMMARY:Isabelle Demers\, organ
DESCRIPTION:Performers\nIsabelle Demers: organ\n\nProgramme\nCésar Franck
 \nFantasie A-Dur FWV 35\nCharles-Valentin Alkan\n12 Études pour les pieds
  seulement (Auswahl)\nFranz Liszt\nTarantella / aus: Venezia e Napoli S 16
 2\n– Interval – \nCharles-Valentin Alkan\nImpromptu sur le Choral de L
 uther »Un fort rempart est notre Dieu« op. 69\n11 Grands préludes op.
  66 (Auswahl)\nTreize Prières op. 64 (Auswahl) / Bearbeitung von César
  Franck (Auswahl)\nFranz Liszt\nFunérailles / from: Harmonies poétiques 
 et religieuses\, S 173
UID:event28146@Elbphilharmonie.de
URL:https://www.elbphilharmonie.de/en/whats-on/isabelle-demers-organ/28146
END:VEVENT
END:VCALENDAR
