BEGIN:VCALENDAR
METHOD:PUBLISH
CALSCALE:GREGORIAN
PRODID:Elbphilharmonie
VERSION:2.0
BEGIN:VTIMEZONE
TZID:Europe/Berlin
BEGIN:DAYLIGHT
TZOFFSETFROM:+0100
TZOFFSETTO:+0200
TZNAME:CEST
DTSTART:20200329T010000
RRULE:FREQ=YEARLY;INTERVAL=1;BYDAY=-1SU;BYMONTH=3
END:DAYLIGHT
BEGIN:STANDARD
TZOFFSETFROM:+0200
TZOFFSETTO:+0100
TZNAME:CET
DTSTART:20201025T010000
RRULE:FREQ=YEARLY;INTERVAL=1;BYDAY=-1SU;BYMONTH=10
END:STANDARD
END:VTIMEZONE
BEGIN:VEVENT
DTSTAMP:20260423T195400Z
DTSTART:20261106T170000Z
DTEND:20261106T201500Z
LOCATION:Steinway & Sons
SUMMARY:Insight Piano
DESCRIPTION:Performers\nElisabeth Brauß: piano\nSimon Rempe: talk\nAnne K
 ussmaul: moderation\n
UID:event28186@Elbphilharmonie.de
URL:https://www.elbphilharmonie.de/en/whats-on/insight-piano/28186
END:VEVENT
END:VCALENDAR
