BEGIN:VCALENDAR
METHOD:PUBLISH
CALSCALE:GREGORIAN
PRODID:Elbphilharmonie
VERSION:2.0
BEGIN:VTIMEZONE
TZID:Europe/Berlin
BEGIN:DAYLIGHT
TZOFFSETFROM:+0100
TZOFFSETTO:+0200
TZNAME:CEST
DTSTART:20200329T010000
RRULE:FREQ=YEARLY;INTERVAL=1;BYDAY=-1SU;BYMONTH=3
END:DAYLIGHT
BEGIN:STANDARD
TZOFFSETFROM:+0200
TZOFFSETTO:+0100
TZNAME:CET
DTSTART:20201025T010000
RRULE:FREQ=YEARLY;INTERVAL=1;BYDAY=-1SU;BYMONTH=10
END:STANDARD
END:VTIMEZONE
BEGIN:VEVENT
DTSTAMP:20260423T121000Z
DTSTART:20270120T180000Z
DTEND:20270120T191500Z
LOCATION:Geigenbau Schellong Osann
SUMMARY:Insight Cello
DESCRIPTION:Performers\nPetar Pejčić: violoncello\nNikolaus Osann: talk\
 nAnne Kussmaul: moderation\n
UID:event28807@Elbphilharmonie.de
URL:https://www.elbphilharmonie.de/en/whats-on/insight-cello/28807
END:VEVENT
END:VCALENDAR
