BEGIN:VCALENDAR
METHOD:PUBLISH
CALSCALE:GREGORIAN
PRODID:Elbphilharmonie
VERSION:2.0
BEGIN:VTIMEZONE
TZID:Europe/Berlin
BEGIN:DAYLIGHT
TZOFFSETFROM:+0100
TZOFFSETTO:+0200
TZNAME:CEST
DTSTART:20200329T010000
RRULE:FREQ=YEARLY;INTERVAL=1;BYDAY=-1SU;BYMONTH=3
END:DAYLIGHT
BEGIN:STANDARD
TZOFFSETFROM:+0200
TZOFFSETTO:+0100
TZNAME:CET
DTSTART:20201025T010000
RRULE:FREQ=YEARLY;INTERVAL=1;BYDAY=-1SU;BYMONTH=10
END:STANDARD
END:VTIMEZONE
BEGIN:VEVENT
DTSTAMP:20260423T121100Z
DTSTART:20270130T190000Z
DTEND:20270130T203000Z
LOCATION:Elbphilharmonie Großer Saal
SUMMARY:hr-Sinfonieorchester / Raschèr Saxophone Quartet / Matthias Pints
 cher
DESCRIPTION:Performers\nhr-Sinfonieorchester Frankfurt\nRaschèr Saxophone
  Quartet\nChristine Rall: soprano saxophone\nElliot Riley: alto saxophone\
 nAndreas van Zoelen: tenor saxophone\nKenneth Coon: baritone saxophone\nco
 nductor: Matthias Pintscher\n\nProgramme\nMárton Illés\nSaxotèr\nVito 
 Žuraj\nAnemoï\nThe concert takes place without an interval.
UID:event28176@Elbphilharmonie.de
URL:https://www.elbphilharmonie.de/en/whats-on/hr-sinfonieorchester-rasche
 r-saxophone-quartet-matthias-pintscher/28176
END:VEVENT
END:VCALENDAR
