BEGIN:VCALENDAR
METHOD:PUBLISH
CALSCALE:GREGORIAN
PRODID:Elbphilharmonie
VERSION:2.0
BEGIN:VTIMEZONE
TZID:Europe/Berlin
BEGIN:DAYLIGHT
TZOFFSETFROM:+0100
TZOFFSETTO:+0200
TZNAME:CEST
DTSTART:20200329T010000
RRULE:FREQ=YEARLY;INTERVAL=1;BYDAY=-1SU;BYMONTH=3
END:DAYLIGHT
BEGIN:STANDARD
TZOFFSETFROM:+0200
TZOFFSETTO:+0100
TZNAME:CET
DTSTART:20201025T010000
RRULE:FREQ=YEARLY;INTERVAL=1;BYDAY=-1SU;BYMONTH=10
END:STANDARD
END:VTIMEZONE
BEGIN:VEVENT
DTSTAMP:20260422T194600Z
DTSTART:20260606T180000Z
DTEND:20260606T200000Z
LOCATION:Laeiszhalle Großer Saal
SUMMARY:Harvestehuder Sinfonieorchester / Jasper Sitte / Felix Koltun
DESCRIPTION:Performers\nHarvestehuder Sinfonieorchester\nJasper Sitte: vio
 la\nconductor: Felix Koltun\n\nProgramme\nBedřich Smetana\nZ ceských luh
 u a háju (Aus Böhmens Hain und Flur) / Sinfonische Dichtung / aus: Má v
 last (Mein Vaterland)\nBéla Bartók\nKonzert für Viola und Orchester Sz 
 120\nAntonín Dvořák\nSymphony No. 7 in D minor\, Op. 70
UID:event24219@Elbphilharmonie.de
URL:https://www.elbphilharmonie.de/en/whats-on/harvestehuder-sinfonieorche
 ster-jasper-sitte-felix-koltun/24219
END:VEVENT
END:VCALENDAR
