BEGIN:VCALENDAR
METHOD:PUBLISH
CALSCALE:GREGORIAN
PRODID:Elbphilharmonie
VERSION:2.0
BEGIN:VTIMEZONE
TZID:Europe/Berlin
BEGIN:DAYLIGHT
TZOFFSETFROM:+0100
TZOFFSETTO:+0200
TZNAME:CEST
DTSTART:20200329T010000
RRULE:FREQ=YEARLY;INTERVAL=1;BYDAY=-1SU;BYMONTH=3
END:DAYLIGHT
BEGIN:STANDARD
TZOFFSETFROM:+0200
TZOFFSETTO:+0100
TZNAME:CET
DTSTART:20201025T010000
RRULE:FREQ=YEARLY;INTERVAL=1;BYDAY=-1SU;BYMONTH=10
END:STANDARD
END:VTIMEZONE
BEGIN:VEVENT
DTSTAMP:20260423T121000Z
DTSTART:20261206T190000Z
DTEND:20261206T215000Z
LOCATION:Elbphilharmonie Großer Saal
SUMMARY:Händel: Messiah
DESCRIPTION:Performers\nOrchestra of the Eighteenth Century: orchestra\nND
 R Vokalensemble\nRobin Johannsen: soprano\nEsther Kuipa: alto\nJames Way: 
 tenor\nNicholas Mogg: bass\ndirector: Klaas Stok\n\nProgramme\nGeorg Fried
 rich Händel\nMessiah / oratorio in three parts\, HWV 56
UID:event28401@Elbphilharmonie.de
URL:https://www.elbphilharmonie.de/en/whats-on/handel-messiah/28401
END:VEVENT
END:VCALENDAR
