BEGIN:VCALENDAR
METHOD:PUBLISH
CALSCALE:GREGORIAN
PRODID:Elbphilharmonie
VERSION:2.0
BEGIN:VTIMEZONE
TZID:Europe/Berlin
BEGIN:DAYLIGHT
TZOFFSETFROM:+0100
TZOFFSETTO:+0200
TZNAME:CEST
DTSTART:20200329T010000
RRULE:FREQ=YEARLY;INTERVAL=1;BYDAY=-1SU;BYMONTH=3
END:DAYLIGHT
BEGIN:STANDARD
TZOFFSETFROM:+0200
TZOFFSETTO:+0100
TZNAME:CET
DTSTART:20201025T010000
RRULE:FREQ=YEARLY;INTERVAL=1;BYDAY=-1SU;BYMONTH=10
END:STANDARD
END:VTIMEZONE
BEGIN:VEVENT
DTSTAMP:20260425T102800Z
DTSTART:20270618T180000Z
DTEND:20270618T210000Z
LOCATION:Elbphilharmonie Großer Saal
SUMMARY:Gustav Mahler Jugendorchester / Kirill Petrenko
DESCRIPTION:Performers\nGustav Mahler Jugendorchester\nconductor: Kirill P
 etrenko\n\nProgramme\nPaul Hindemith\nKonzertmusik for Strings and Brass\,
  Op. 50\n– Interval – \nGustav Mahler\nSymphony No. 5 in C-sharp minor
UID:event28400@Elbphilharmonie.de
URL:https://www.elbphilharmonie.de/en/whats-on/gustav-mahler-jugendorchest
 er-kirill-petrenko/28400
END:VEVENT
END:VCALENDAR
