BEGIN:VCALENDAR
METHOD:PUBLISH
CALSCALE:GREGORIAN
PRODID:Elbphilharmonie
VERSION:2.0
BEGIN:VTIMEZONE
TZID:Europe/Berlin
BEGIN:DAYLIGHT
TZOFFSETFROM:+0100
TZOFFSETTO:+0200
TZNAME:CEST
DTSTART:20200329T010000
RRULE:FREQ=YEARLY;INTERVAL=1;BYDAY=-1SU;BYMONTH=3
END:DAYLIGHT
BEGIN:STANDARD
TZOFFSETFROM:+0200
TZOFFSETTO:+0100
TZNAME:CET
DTSTART:20201025T010000
RRULE:FREQ=YEARLY;INTERVAL=1;BYDAY=-1SU;BYMONTH=10
END:STANDARD
END:VTIMEZONE
BEGIN:VEVENT
DTSTAMP:20260423T145800Z
DTSTART:20270226T183000Z
DTEND:20270226T203000Z
LOCATION:Elbphilharmonie Kleiner Saal
SUMMARY:Guido Sant’Anna / Plínio Fernandes
DESCRIPTION:Performers\nGuido Sant’Anna: violin\nPlínio Fernandes: guit
 ar\n\nProgramme\nHeitor Villa-Lobos\nÁria / aus: Bachianas brasileiras Nr
 . 5\nMarlos Nobre\nDesafio III für Violine und Streicher op. 31/3 (Bearb
 eitung für Violine und Gitarre)\nBaden Powell\nSamba em Prelúdio / Bearb
 eitung für Violine und Gitarre\nManuel de Falla\nSiete canciones populare
 s españolas / Bearbeitung für Violine und Gitarre\n– Interval – \nLu
 iz Bonfá\nManhã de Carnaval / Bearbeitung für Violine und Gitarre\nYama
 ndú Costa\nSamba Pro Rapha / Bearbeitung für Violine und Gitarre\nAstor 
 Piazzolla\nHistoire du tango / Bearbeitung für Violine und Gitarre\nErnes
 to Nazareth\nApanhei-te\, Cavaquinho / Bearbeitung für Violine und Gitarr
 e\nEscorregando / Bearbeitung für Violine und Gitarre
UID:event28018@Elbphilharmonie.de
URL:https://www.elbphilharmonie.de/en/whats-on/guido-santanna-plinio-ferna
 ndes/28018
END:VEVENT
END:VCALENDAR
