BEGIN:VCALENDAR
METHOD:PUBLISH
CALSCALE:GREGORIAN
PRODID:Elbphilharmonie
VERSION:2.0
BEGIN:VTIMEZONE
TZID:Europe/Berlin
BEGIN:DAYLIGHT
TZOFFSETFROM:+0100
TZOFFSETTO:+0200
TZNAME:CEST
DTSTART:20200329T010000
RRULE:FREQ=YEARLY;INTERVAL=1;BYDAY=-1SU;BYMONTH=3
END:DAYLIGHT
BEGIN:STANDARD
TZOFFSETFROM:+0200
TZOFFSETTO:+0100
TZNAME:CET
DTSTART:20201025T010000
RRULE:FREQ=YEARLY;INTERVAL=1;BYDAY=-1SU;BYMONTH=10
END:STANDARD
END:VTIMEZONE
BEGIN:VEVENT
DTSTAMP:20260423T151300Z
DTSTART:20261115T183000Z
DTEND:20261115T213000Z
LOCATION:Elbphilharmonie Kleiner Saal
SUMMARY:Georg Nigl / Liederabend
DESCRIPTION:Performers\nGeorg Nigl: baritone\nOlga Pashchenko: piano\n\nPr
 ogramme\nFranz Schubert\nSchwanengesang D 957\nsowie weitere Lieder von Fr
 anz Schubert
UID:event28431@Elbphilharmonie.de
URL:https://www.elbphilharmonie.de/en/whats-on/georg-nigl-liederabend/2843
 1
END:VEVENT
END:VCALENDAR
