BEGIN:VCALENDAR
METHOD:PUBLISH
CALSCALE:GREGORIAN
PRODID:Elbphilharmonie
VERSION:2.0
BEGIN:VTIMEZONE
TZID:Europe/Berlin
BEGIN:DAYLIGHT
TZOFFSETFROM:+0100
TZOFFSETTO:+0200
TZNAME:CEST
DTSTART:20200329T010000
RRULE:FREQ=YEARLY;INTERVAL=1;BYDAY=-1SU;BYMONTH=3
END:DAYLIGHT
BEGIN:STANDARD
TZOFFSETFROM:+0200
TZOFFSETTO:+0100
TZNAME:CET
DTSTART:20201025T010000
RRULE:FREQ=YEARLY;INTERVAL=1;BYDAY=-1SU;BYMONTH=10
END:STANDARD
END:VTIMEZONE
BEGIN:VEVENT
DTSTAMP:20260424T051800Z
DTSTART:20271204T190000Z
DTEND:20271204T213500Z
LOCATION:Laeiszhalle Kleiner Saal
SUMMARY:Field Commander C.
DESCRIPTION:Performers\nField Commander C.\nIra Diehr: vocals\nAnne de Wol
 f: violoncello\, viola\, mandolin\, vocals\nKlaus Marquardt: violin\nKlaus
  Eichberger: organ\, accordion\, piano\nRolf Ableiter: vocals\, guitar\n\n
 Programme\n»Leonard Cohen’s Early Works – the Roots of Hallelujah«
UID:event28740@Elbphilharmonie.de
URL:https://www.elbphilharmonie.de/en/whats-on/field-commander-c/28740
END:VEVENT
END:VCALENDAR
